Package: VegaMC Version: 3.45.0 Command: rm -rf VegaMC.buildbin-libdir && mkdir VegaMC.buildbin-libdir && E:\biocbuild\bbs-3.21-bioc\R\bin\R.exe CMD INSTALL --build --library=VegaMC.buildbin-libdir VegaMC_3.45.0.tar.gz StartedAt: 2025-02-21 09:20:37 -0500 (Fri, 21 Feb 2025) EndedAt: 2025-02-21 09:21:04 -0500 (Fri, 21 Feb 2025) EllapsedTime: 26.4 seconds RetCode: 0 Status: OK PackageFile: VegaMC_3.45.0.zip PackageFileSize: 1.708 MiB