Package: VegaMC Version: 3.45.0 Command: /home/biocbuild/bbs-3.21-bioc/R/bin/R CMD INSTALL VegaMC StartedAt: 2025-02-20 15:35:23 -0500 (Thu, 20 Feb 2025) EndedAt: 2025-02-20 15:35:38 -0500 (Thu, 20 Feb 2025) EllapsedTime: 14.9 seconds RetCode: 0 Status: OK