Package: VegaMC Version: 3.45.0 Command: /home/biocbuild/bbs-3.21-bioc/R/bin/R CMD build --keep-empty-dirs --no-resave-data VegaMC StartedAt: 2025-02-20 19:42:26 -0500 (Thu, 20 Feb 2025) EndedAt: 2025-02-20 19:42:51 -0500 (Thu, 20 Feb 2025) EllapsedTime: 25.0 seconds RetCode: 0 Status: OK PackageFile: VegaMC_3.45.0.tar.gz PackageFileSize: 1.776 MiB