Package: VegaMC Version: 3.45.0 Command: /home/biocbuild/R/R/bin/R CMD check --install=check:VegaMC.install-out.txt --library=/home/biocbuild/R/R/site-library --no-vignettes --timings VegaMC_3.45.0.tar.gz StartedAt: 2025-01-27 13:50:20 -0000 (Mon, 27 Jan 2025) EndedAt: 2025-01-27 13:52:50 -0000 (Mon, 27 Jan 2025) EllapsedTime: 150.3 seconds RetCode: 0 Status: WARNINGS CheckDir: VegaMC.Rcheck Warnings: 6