Package: VegaMC Version: 3.45.0 Command: /Library/Frameworks/R.framework/Resources/bin/R CMD INSTALL VegaMC StartedAt: 2025-02-20 15:13:24 -0500 (Thu, 20 Feb 2025) EndedAt: 2025-02-20 15:13:30 -0500 (Thu, 20 Feb 2025) EllapsedTime: 6.8 seconds RetCode: 0 Status: OK