Package: VegaMC Version: 3.45.0 Command: /Library/Frameworks/R.framework/Resources/bin/R CMD check --install=check:VegaMC.install-out.txt --library=/Library/Frameworks/R.framework/Resources/library --no-vignettes --timings VegaMC_3.45.0.tar.gz StartedAt: 2025-02-20 21:59:06 -0500 (Thu, 20 Feb 2025) EndedAt: 2025-02-20 21:59:47 -0500 (Thu, 20 Feb 2025) EllapsedTime: 40.5 seconds RetCode: 0 Status: WARNINGS CheckDir: VegaMC.Rcheck Warnings: 2