Package: VariantTools Version: 1.49.0 Command: E:\biocbuild\bbs-3.21-bioc\R\bin\R.exe CMD INSTALL VariantTools StartedAt: 2025-02-19 16:07:56 -0500 (Wed, 19 Feb 2025) EndedAt: 2025-02-19 16:09:12 -0500 (Wed, 19 Feb 2025) EllapsedTime: 75.3 seconds RetCode: 0 Status: OK