Package: VariantTools Version: 1.49.0 Command: chmod a+r VariantTools -R && E:\biocbuild\bbs-3.21-bioc\R\bin\R.exe CMD build --keep-empty-dirs --no-resave-data VariantTools StartedAt: 2025-02-19 22:15:02 -0500 (Wed, 19 Feb 2025) EndedAt: 2025-02-19 22:16:24 -0500 (Wed, 19 Feb 2025) EllapsedTime: 81.9 seconds RetCode: 0 Status: OK PackageFile: VariantTools_1.49.0.tar.gz PackageFileSize: 5.969 MiB