Package: VariantTools Version: 1.49.0 Command: /home/biocbuild/bbs-3.21-bioc/R/bin/R CMD INSTALL VariantTools StartedAt: 2025-02-20 15:56:52 -0500 (Thu, 20 Feb 2025) EndedAt: 2025-02-20 15:57:31 -0500 (Thu, 20 Feb 2025) EllapsedTime: 38.7 seconds RetCode: 0 Status: OK