Package: VariantTools Version: 1.49.0 Command: /Library/Frameworks/R.framework/Resources/bin/R CMD INSTALL VariantTools StartedAt: 2025-02-19 15:21:01 -0500 (Wed, 19 Feb 2025) EndedAt: 2025-02-19 15:21:55 -0500 (Wed, 19 Feb 2025) EllapsedTime: 53.5 seconds RetCode: 0 Status: OK