Package: VariantTools Version: 1.49.0 Command: /Library/Frameworks/R.framework/Resources/bin/R CMD check --install=check:VariantTools.install-out.txt --library=/Library/Frameworks/R.framework/Resources/library --no-vignettes --timings VariantTools_1.49.0.tar.gz StartedAt: 2025-02-19 23:57:57 -0500 (Wed, 19 Feb 2025) EndedAt: 2025-02-20 00:04:22 -0500 (Thu, 20 Feb 2025) EllapsedTime: 384.4 seconds RetCode: 0 Status: WARNINGS CheckDir: VariantTools.Rcheck Warnings: 2