Package: VariantTools Version: 1.49.0 Command: /Library/Frameworks/R.framework/Resources/bin/R CMD build --keep-empty-dirs --no-resave-data VariantTools StartedAt: 2025-02-19 18:36:10 -0500 (Wed, 19 Feb 2025) EndedAt: 2025-02-19 18:37:32 -0500 (Wed, 19 Feb 2025) EllapsedTime: 82.1 seconds RetCode: 0 Status: OK PackageFile: VariantTools_1.49.0.tar.gz PackageFileSize: 5.968 MiB