Package: VariantExperiment Version: 1.21.0 Command: E:\biocbuild\bbs-3.21-bioc\R\bin\R.exe CMD INSTALL VariantExperiment StartedAt: 2025-02-19 15:46:19 -0500 (Wed, 19 Feb 2025) EndedAt: 2025-02-19 15:47:45 -0500 (Wed, 19 Feb 2025) EllapsedTime: 86.6 seconds RetCode: 0 Status: OK