Package: VariantExperiment Version: 1.21.0 Command: /home/biocbuild/bbs-3.21-bioc/R/bin/R CMD check --install=check:VariantExperiment.install-out.txt --library=/home/biocbuild/bbs-3.21-bioc/R/site-library --timings VariantExperiment_1.21.0.tar.gz StartedAt: 2025-02-19 03:11:53 -0500 (Wed, 19 Feb 2025) EndedAt: 2025-02-19 03:15:24 -0500 (Wed, 19 Feb 2025) EllapsedTime: 211.2 seconds RetCode: 0 Status: OK CheckDir: VariantExperiment.Rcheck Warnings: 0