Package: VariantExperiment Version: 1.21.0 Command: /Library/Frameworks/R.framework/Resources/bin/R CMD INSTALL VariantExperiment StartedAt: 2025-02-18 15:10:56 -0500 (Tue, 18 Feb 2025) EndedAt: 2025-02-18 15:11:28 -0500 (Tue, 18 Feb 2025) EllapsedTime: 32.1 seconds RetCode: 0 Status: OK