Package: VariantAnnotation Version: 1.53.1 Command: E:\biocbuild\bbs-3.21-bioc\R\bin\R.exe CMD INSTALL VariantAnnotation StartedAt: 2025-02-20 16:25:55 -0500 (Thu, 20 Feb 2025) EndedAt: 2025-02-20 16:31:21 -0500 (Thu, 20 Feb 2025) EllapsedTime: 325.7 seconds RetCode: 0 Status: OK