Package: VariantAnnotation Version: 1.53.1 Command: rm -rf VariantAnnotation.buildbin-libdir && mkdir VariantAnnotation.buildbin-libdir && E:\biocbuild\bbs-3.21-bioc\R\bin\R.exe CMD INSTALL --build --library=VariantAnnotation.buildbin-libdir VariantAnnotation_1.53.1.tar.gz StartedAt: 2025-02-21 09:20:17 -0500 (Fri, 21 Feb 2025) EndedAt: 2025-02-21 09:24:08 -0500 (Fri, 21 Feb 2025) EllapsedTime: 230.9 seconds RetCode: 0 Status: OK PackageFile: VariantAnnotation_1.53.1.zip PackageFileSize: 8.547 MiB