Package: VariantAnnotation Version: 1.54.1 Command: /home/biocbuild/bbs-3.21-bioc/R/bin/R CMD INSTALL VariantAnnotation StartedAt: 2025-10-05 15:38:37 -0400 (Sun, 05 Oct 2025) EndedAt: 2025-10-05 15:39:46 -0400 (Sun, 05 Oct 2025) EllapsedTime: 69.0 seconds RetCode: 0 Status: OK