Package: VariantAnnotation Version: 1.54.1 Command: /home/biocbuild/bbs-3.21-bioc/R/bin/R CMD build --keep-empty-dirs --no-resave-data VariantAnnotation StartedAt: 2025-10-05 20:28:44 -0400 (Sun, 05 Oct 2025) EndedAt: 2025-10-05 20:31:17 -0400 (Sun, 05 Oct 2025) EllapsedTime: 153.1 seconds RetCode: 0 Status: OK PackageFile: VariantAnnotation_1.54.1.tar.gz PackageFileSize: 2.045 MiB