Package: VariantAnnotation Version: 1.54.1 Command: /Library/Frameworks/R.framework/Resources/bin/R CMD INSTALL VariantAnnotation StartedAt: 2025-10-13 16:09:17 -0400 (Mon, 13 Oct 2025) EndedAt: 2025-10-13 16:11:44 -0400 (Mon, 13 Oct 2025) EllapsedTime: 146.5 seconds RetCode: 0 Status: OK