Package: VariantAnnotation Version: 1.54.1 Command: rm -rf VariantAnnotation.buildbin-libdir && mkdir VariantAnnotation.buildbin-libdir && /Users/biocbuild/BBS/utils/build-universal.sh VariantAnnotation_1.54.1.tar.gz /Library/Frameworks/R.framework/Resources/bin/R VariantAnnotation.buildbin-libdir StartedAt: 2025-10-14 15:01:43 -0400 (Tue, 14 Oct 2025) EndedAt: 2025-10-14 15:04:41 -0400 (Tue, 14 Oct 2025) EllapsedTime: 178.9 seconds RetCode: 0 Status: OK PackageFile: VariantAnnotation_1.54.1.tgz PackageFileSize: 4.401 MiB