Package: VariantAnnotation Version: 1.54.1 Command: /Library/Frameworks/R.framework/Resources/bin/R CMD INSTALL VariantAnnotation StartedAt: 2025-10-02 17:14:35 -0400 (Thu, 02 Oct 2025) EndedAt: 2025-10-02 17:15:59 -0400 (Thu, 02 Oct 2025) EllapsedTime: 83.6 seconds RetCode: 0 Status: OK