Package: VariantAnnotation Version: 1.54.1 Command: rm -rf VariantAnnotation.buildbin-libdir && mkdir VariantAnnotation.buildbin-libdir && /Users/biocbuild/BBS/utils/build-universal.sh VariantAnnotation_1.54.1.tar.gz /Library/Frameworks/R.framework/Resources/bin/R VariantAnnotation.buildbin-libdir StartedAt: 2025-10-04 20:27:10 -0400 (Sat, 04 Oct 2025) EndedAt: 2025-10-04 20:28:44 -0400 (Sat, 04 Oct 2025) EllapsedTime: 94.4 seconds RetCode: 0 Status: OK PackageFile: VariantAnnotation_1.54.1.tgz PackageFileSize: 4.368 MiB