Package: VarCon Version: 1.15.0 Command: rm -rf VarCon.buildbin-libdir && mkdir VarCon.buildbin-libdir && E:\biocbuild\bbs-3.21-bioc\R\bin\R.exe CMD INSTALL --build --library=VarCon.buildbin-libdir VarCon_1.15.0.tar.gz StartedAt: 2025-02-19 08:37:54 -0500 (Wed, 19 Feb 2025) EndedAt: 2025-02-19 08:38:51 -0500 (Wed, 19 Feb 2025) EllapsedTime: 57.0 seconds RetCode: 0 Status: OK PackageFile: VarCon_1.15.0.zip PackageFileSize: 1.992 MiB