Package: VarCon Version: 1.15.0 Command: /Library/Frameworks/R.framework/Resources/bin/R CMD check --install=check:VarCon.install-out.txt --library=/Library/Frameworks/R.framework/Resources/library --no-vignettes --timings VarCon_1.15.0.tar.gz StartedAt: 2025-02-19 23:57:41 -0500 (Wed, 19 Feb 2025) EndedAt: 2025-02-20 00:02:19 -0500 (Thu, 20 Feb 2025) EllapsedTime: 277.9 seconds RetCode: 0 Status: OK CheckDir: VarCon.Rcheck Warnings: 0