Package: VanillaICE Version: 1.69.0 Command: E:\biocbuild\bbs-3.21-bioc\R\bin\R.exe CMD INSTALL VanillaICE StartedAt: 2025-02-20 16:26:20 -0500 (Thu, 20 Feb 2025) EndedAt: 2025-02-20 16:26:21 -0500 (Thu, 20 Feb 2025) EllapsedTime: 1.0 seconds RetCode: 1 Status: ERROR