Package: VanillaICE Version: 1.69.0 Command: /Library/Frameworks/R.framework/Resources/bin/R CMD INSTALL VanillaICE StartedAt: 2025-02-20 15:10:30 -0500 (Thu, 20 Feb 2025) EndedAt: 2025-02-20 15:10:31 -0500 (Thu, 20 Feb 2025) EllapsedTime: 1.3 seconds RetCode: 1 Status: ERROR