Package: VaSP Version: 1.19.0 Command: /home/biocbuild/bbs-3.21-bioc/R/bin/R CMD build --keep-empty-dirs --no-resave-data VaSP StartedAt: 2025-02-19 19:39:24 -0500 (Wed, 19 Feb 2025) EndedAt: 2025-02-19 19:40:11 -0500 (Wed, 19 Feb 2025) EllapsedTime: 47.1 seconds RetCode: 0 Status: OK PackageFile: VaSP_1.19.0.tar.gz PackageFileSize: 8.456 MiB