Package: VaSP Version: 1.19.0 Command: /Library/Frameworks/R.framework/Resources/bin/R CMD build --keep-empty-dirs --no-resave-data VaSP StartedAt: 2025-02-19 18:36:11 -0500 (Wed, 19 Feb 2025) EndedAt: 2025-02-19 18:37:04 -0500 (Wed, 19 Feb 2025) EllapsedTime: 53.6 seconds RetCode: 0 Status: OK PackageFile: VaSP_1.19.0.tar.gz PackageFileSize: 8.456 MiB