Package: VERSO Version: 1.17.0 Command: E:\biocbuild\bbs-3.21-bioc\R\bin\R.exe CMD INSTALL VERSO StartedAt: 2025-02-21 16:12:24 -0500 (Fri, 21 Feb 2025) EndedAt: 2025-02-21 16:12:34 -0500 (Fri, 21 Feb 2025) EllapsedTime: 9.5 seconds RetCode: 0 Status: OK