Package: VERSO Version: 1.17.0 Command: rm -rf VERSO.buildbin-libdir && mkdir VERSO.buildbin-libdir && E:\biocbuild\bbs-3.21-bioc\R\bin\R.exe CMD INSTALL --build --library=VERSO.buildbin-libdir VERSO_1.17.0.tar.gz StartedAt: 2025-02-22 09:35:14 -0500 (Sat, 22 Feb 2025) EndedAt: 2025-02-22 09:35:26 -0500 (Sat, 22 Feb 2025) EllapsedTime: 12.3 seconds RetCode: 0 Status: OK PackageFile: VERSO_1.17.0.zip PackageFileSize: 655 KiB