Package: VERSO Version: 1.17.0 Command: /Library/Frameworks/R.framework/Resources/bin/R CMD build --keep-empty-dirs --no-resave-data VERSO StartedAt: 2025-02-20 18:36:38 -0500 (Thu, 20 Feb 2025) EndedAt: 2025-02-20 18:36:48 -0500 (Thu, 20 Feb 2025) EllapsedTime: 10.3 seconds RetCode: 0 Status: OK PackageFile: VERSO_1.17.0.tar.gz PackageFileSize: 626.2 KiB