Package: VERSO Version: 1.17.0 Command: /Library/Frameworks/R.framework/Resources/bin/R CMD INSTALL VERSO StartedAt: 2025-02-21 15:12:21 -0500 (Fri, 21 Feb 2025) EndedAt: 2025-02-21 15:12:23 -0500 (Fri, 21 Feb 2025) EllapsedTime: 2.3 seconds RetCode: 0 Status: OK