Package: VERSO Version: 1.17.0 Command: /Library/Frameworks/R.framework/Resources/bin/R CMD check --install=check:VERSO.install-out.txt --library=/Library/Frameworks/R.framework/Resources/library --no-vignettes --timings VERSO_1.17.0.tar.gz StartedAt: 2025-02-21 22:36:37 -0500 (Fri, 21 Feb 2025) EndedAt: 2025-02-21 22:36:51 -0500 (Fri, 21 Feb 2025) EllapsedTime: 14.2 seconds RetCode: 0 Status: OK CheckDir: VERSO.Rcheck Warnings: 0