Package: VERSO Version: 1.17.0 Command: /Library/Frameworks/R.framework/Resources/bin/R CMD build --keep-empty-dirs --no-resave-data VERSO StartedAt: 2025-02-21 17:52:07 -0500 (Fri, 21 Feb 2025) EndedAt: 2025-02-21 17:52:11 -0500 (Fri, 21 Feb 2025) EllapsedTime: 4.1 seconds RetCode: 0 Status: OK PackageFile: VERSO_1.17.0.tar.gz PackageFileSize: 626.1 KiB