Package: VDJdive Version: 1.9.0 Command: /Library/Frameworks/R.framework/Resources/bin/R CMD build --keep-empty-dirs --no-resave-data VDJdive StartedAt: 2025-02-20 17:52:19 -0500 (Thu, 20 Feb 2025) EndedAt: 2025-02-20 17:52:35 -0500 (Thu, 20 Feb 2025) EllapsedTime: 16.2 seconds RetCode: 0 Status: OK PackageFile: VDJdive_1.9.0.tar.gz PackageFileSize: 550.4 KiB