Package: VCFArray Version: 1.23.0 Command: /Library/Frameworks/R.framework/Resources/bin/R CMD INSTALL VCFArray StartedAt: 2025-02-17 15:20:48 -0500 (Mon, 17 Feb 2025) EndedAt: 2025-02-17 15:21:43 -0500 (Mon, 17 Feb 2025) EllapsedTime: 55.5 seconds RetCode: 0 Status: OK