Package: VCFArray Version: 1.23.0 Command: /Library/Frameworks/R.framework/Resources/bin/R CMD check --install=check:VCFArray.install-out.txt --library=/Library/Frameworks/R.framework/Resources/library --no-vignettes --timings VCFArray_1.23.0.tar.gz StartedAt: 2025-02-17 23:51:35 -0500 (Mon, 17 Feb 2025) EndedAt: 2025-02-17 23:56:52 -0500 (Mon, 17 Feb 2025) EllapsedTime: 316.5 seconds RetCode: 0 Status: OK CheckDir: VCFArray.Rcheck Warnings: 0