Package: VCFArray Version: 1.23.0 Command: rm -rf VCFArray.buildbin-libdir && mkdir VCFArray.buildbin-libdir && /Users/biocbuild/BBS/utils/build-universal.sh VCFArray_1.23.0.tar.gz /Library/Frameworks/R.framework/Resources/bin/R VCFArray.buildbin-libdir StartedAt: 2025-02-18 00:52:28 -0500 (Tue, 18 Feb 2025) EndedAt: 2025-02-18 00:53:28 -0500 (Tue, 18 Feb 2025) EllapsedTime: 59.7 seconds RetCode: 0 Status: OK PackageFile: VCFArray_1.23.0.tgz PackageFileSize: 1.044 MiB