Package: VCFArray Version: 1.23.0 Command: /Library/Frameworks/R.framework/Resources/bin/R CMD build --keep-empty-dirs --no-resave-data VCFArray StartedAt: 2025-02-17 17:51:00 -0500 (Mon, 17 Feb 2025) EndedAt: 2025-02-17 17:51:29 -0500 (Mon, 17 Feb 2025) EllapsedTime: 29.4 seconds RetCode: 0 Status: OK PackageFile: VCFArray_1.23.0.tar.gz PackageFileSize: 302.6 KiB