Package: VCFArray Version: 1.24.0 Command: /Library/Frameworks/R.framework/Resources/bin/R CMD INSTALL VCFArray StartedAt: 2025-09-29 18:30:40 -0400 (Mon, 29 Sep 2025) EndedAt: 2025-09-29 18:31:32 -0400 (Mon, 29 Sep 2025) EllapsedTime: 51.8 seconds RetCode: 0 Status: OK