Package: VCFArray Version: 1.24.0 Command: /Library/Frameworks/R.framework/Resources/bin/R CMD build --keep-empty-dirs --no-resave-data VCFArray StartedAt: 2025-09-30 11:38:26 -0400 (Tue, 30 Sep 2025) EndedAt: 2025-09-30 11:39:57 -0400 (Tue, 30 Sep 2025) EllapsedTime: 90.6 seconds RetCode: 0 Status: OK PackageFile: VCFArray_1.24.0.tar.gz PackageFileSize: 302.6 KiB