Package: VCFArray Version: 1.24.0 Command: rm -rf VCFArray.buildbin-libdir && mkdir VCFArray.buildbin-libdir && /Users/biocbuild/BBS/utils/build-universal.sh VCFArray_1.24.0.tar.gz /Library/Frameworks/R.framework/Resources/bin/R VCFArray.buildbin-libdir StartedAt: 2025-10-01 20:58:55 -0400 (Wed, 01 Oct 2025) EndedAt: 2025-10-01 20:59:53 -0400 (Wed, 01 Oct 2025) EllapsedTime: 57.9 seconds RetCode: 0 Status: OK PackageFile: VCFArray_1.24.0.tgz PackageFileSize: 1.042 MiB