Package: VAExprs Version: 1.13.0 Command: /Library/Frameworks/R.framework/Resources/bin/R CMD INSTALL VAExprs StartedAt: 2025-02-20 15:29:43 -0500 (Thu, 20 Feb 2025) EndedAt: 2025-02-20 15:29:56 -0500 (Thu, 20 Feb 2025) EllapsedTime: 13.3 seconds RetCode: 0 Status: OK