Package: VAExprs Version: 1.13.0 Command: /Library/Frameworks/R.framework/Resources/bin/R CMD build --keep-empty-dirs --no-resave-data VAExprs StartedAt: 2025-02-20 17:51:52 -0500 (Thu, 20 Feb 2025) EndedAt: 2025-02-20 17:52:15 -0500 (Thu, 20 Feb 2025) EllapsedTime: 23.3 seconds RetCode: 1 Status: ERROR PackageFile: None PackageFileSize: NA