Package: Uniquorn Version: 2.27.0 Command: chmod a+r Uniquorn -R && E:\biocbuild\bbs-3.21-bioc\R\bin\R.exe CMD build --keep-empty-dirs --no-resave-data Uniquorn StartedAt: 2025-02-20 22:23:54 -0500 (Thu, 20 Feb 2025) EndedAt: 2025-02-20 22:24:50 -0500 (Thu, 20 Feb 2025) EllapsedTime: 56.4 seconds RetCode: 0 Status: OK PackageFile: Uniquorn_2.27.0.tar.gz PackageFileSize: 2.196 MiB