Package: Uniquorn Version: 2.27.0 Command: /home/biocbuild/bbs-3.21-bioc/R/bin/R CMD check --install=check:Uniquorn.install-out.txt --library=/home/biocbuild/bbs-3.21-bioc/R/site-library --timings Uniquorn_2.27.0.tar.gz StartedAt: 2025-02-21 02:46:36 -0500 (Fri, 21 Feb 2025) EndedAt: 2025-02-21 02:51:17 -0500 (Fri, 21 Feb 2025) EllapsedTime: 280.4 seconds RetCode: 0 Status: OK CheckDir: Uniquorn.Rcheck Warnings: 0