Package: UniProt.ws Version: 2.47.6 Command: /home/biocbuild/bbs-3.21-bioc/R/bin/R CMD INSTALL UniProt.ws StartedAt: 2025-02-17 15:30:22 -0500 (Mon, 17 Feb 2025) EndedAt: 2025-02-17 15:30:37 -0500 (Mon, 17 Feb 2025) EllapsedTime: 14.4 seconds RetCode: 0 Status: OK