Package: UniProt.ws Version: 2.47.6 Command: /home/biocbuild/bbs-3.21-bioc/R/bin/R CMD check --install=check:UniProt.ws.install-out.txt --library=/home/biocbuild/bbs-3.21-bioc/R/site-library --timings UniProt.ws_2.47.6.tar.gz StartedAt: 2025-02-18 03:11:58 -0500 (Tue, 18 Feb 2025) EndedAt: 2025-02-18 03:14:19 -0500 (Tue, 18 Feb 2025) EllapsedTime: 141.2 seconds RetCode: 0 Status: OK CheckDir: UniProt.ws.Rcheck Warnings: 0