Package: UniProt.ws Version: 2.47.6 Command: /home/biocbuild/bbs-3.21-bioc/R/bin/R CMD build --keep-empty-dirs --no-resave-data UniProt.ws StartedAt: 2025-02-17 19:34:17 -0500 (Mon, 17 Feb 2025) EndedAt: 2025-02-17 19:34:42 -0500 (Mon, 17 Feb 2025) EllapsedTime: 25.0 seconds RetCode: 0 Status: OK PackageFile: UniProt.ws_2.47.6.tar.gz PackageFileSize: 240.4 KiB